BEGIN:VCALENDAR
PRODID:-//Microsoft Corporation//Outlook 16.0 MIMEDIR//EN
VERSION:2.0
METHOD:PUBLISH
X-MS-OLK-FORCEINSPECTOROPEN:TRUE
BEGIN:VTIMEZONE
TZID:Romance Standard Time
BEGIN:STANDARD
DTSTART:16011028T030000
RRULE:FREQ=YEARLY;BYDAY=-1SU;BYMONTH=10
TZOFFSETFROM:+0200
TZOFFSETTO:+0100
END:STANDARD
BEGIN:DAYLIGHT
DTSTART:16010325T020000
RRULE:FREQ=YEARLY;BYDAY=-1SU;BYMONTH=3
TZOFFSETFROM:+0100
TZOFFSETTO:+0200
END:DAYLIGHT
END:VTIMEZONE
BEGIN:VEVENT
CLASS:PUBLIC
CREATED:20241127T160826Z
DESCRIPTION:Vous êtes \n- familles\, seniors\, aidants\, particuliers-empl
	oyeurs \n- dirigeants\, cadres\, responsables\, animateurs de structures i
	ndépendantes ou en réseau de services à la personne\, de services d’a
	ide\, d’accompagnement et de soins à domicile\,\n\n- salariés ou futur
	s salariés d’un particulier-employeur\, d’une association ou entrepri
	se\, \n- candidat à la franchise ou créateur d’entreprise envisageant 
	de rejoindre une enseigne de services à la personne. \nVenez participer 
	à cette 19e édition ! \n  \nEt surtout trouver toutes les réponses aux 
	questions que vous vous posez. Pour vous inscrire  : https://www.sap-silve
	rexpo.com/lp-page1-gene_30.html\n\n
DTEND;TZID="Romance Standard Time":20251126T180000
DTSTAMP:20231129T143243Z
DTSTART;TZID="Romance Standard Time":20251125T090000
LAST-MODIFIED:20241127T160826Z
PRIORITY:5
SEQUENCE:0
SUMMARY;LANGUAGE=fr:Salon des services à la personne et de l’emploi à d
	omicile – 19e édition
TRANSP:OPAQUE
UID:65674b8bd86ec
X-ALT-DESC;FMTTYPE=text/html:<!DOCTYPE HTML PUBLIC "-//W3C//DTD HTML 3.2//E
	N">\n<HTML>\n<HEAD>\n<META NAME="Generator" CONTENT="MS Exchange Server ve
	rsion 16.0.18129.20158">\n<TITLE></TITLE>\n</HEAD>\n<BODY>\n<!-- Converted
	 from text/plain format -->\n\n<P><FONT SIZE=2>Vous êtes </FONT>\n\n<BR><
	FONT SIZE=2>- familles\, seniors\, aidants\, particuliers-employeurs</FONT
	>\n\n<BR><FONT SIZE=2>- dirigeants\, cadres\, responsables\, animateurs de
	 structures indépendantes ou en réseau de services à la personne\, de s
	ervices d’aide\, d’accompagnement et de soins à domicile\,</FONT></P>
	\n\n<P><FONT SIZE=2>- salariés ou futurs salariés d’un particulier-emp
	loyeur\, d’une association ou entreprise\,</FONT>\n\n<BR><FONT SIZE=2>- 
	candidat à la franchise ou créateur d’entreprise envisageant de rejoin
	dre une enseigne de services à la personne.</FONT>\n\n<BR><FONT SIZE=2>Ve
	nez participer à cette 19e édition !</FONT>\n\n<BR><FONT SIZE=2>&nbsp\;<
	/FONT>\n\n<BR><FONT SIZE=2>Et surtout trouver toutes les réponses aux que
	stions que vous vous posez. Pour vous inscrire&nbsp\; : <A HREF="https://w
	ww.sap-silverexpo.com/lp-page1-gene_30.html">https://www.sap-silverexpo.co
	m/lp-page1-gene_30.html</A></FONT></P>\n\n</BODY>\n</HTML>
X-MICROSOFT-CDO-BUSYSTATUS:BUSY
X-MICROSOFT-CDO-IMPORTANCE:1
END:VEVENT
END:VCALENDAR
